BEGIN:VCALENDAR
VERSION:2.0
PRODID:-//Communauté des Communes du Pays de Trie et du Magnoac - ECPv4.6.22.1//NONSGML v1.0//EN
CALSCALE:GREGORIAN
METHOD:PUBLISH
X-WR-CALNAME:Communauté des Communes du Pays de Trie et du Magnoac
X-ORIGINAL-URL:https://ccptm.fr
X-WR-CALDESC:Évènements pour Communauté des Communes du Pays de Trie et du Magnoac
BEGIN:VEVENT
DTSTART;VALUE=DATE:20180915
DTEND;VALUE=DATE:20180917
DTSTAMP:20260421T083034
CREATED:20180419T102822Z
LAST-MODIFIED:20180419T102822Z
UID:44368-1536969600-1537142399@ccptm.fr
SUMMARY:Journée du Patrimoine Castelnau-Magnoac
DESCRIPTION:Visite commentée de l’orgue de la collégiale 
URL:https://ccptm.fr/event/journee-du-patrimoine-castelnau-magnoac/
CATEGORIES:Actualités,Découvrir
END:VEVENT
BEGIN:VEVENT
DTSTART;TZID=UTC+1:20180916T100000
DTEND;TZID=UTC+1:20180916T100000
DTSTAMP:20260421T083034
CREATED:20170830T115105Z
LAST-MODIFIED:20180904T122942Z
UID:42207-1537092000-1537092000@ccptm.fr
SUMMARY:Trail du Magnoac
DESCRIPTION: \n \n  \nInformations 06 80 18 75 69 \ninscription au http://njuko.net/traildumagnoac2018 
URL:https://ccptm.fr/event/trail-du-magnoac-au-stade/
CATEGORIES:Actualités
END:VEVENT
BEGIN:VEVENT
DTSTART;TZID=UTC+1:20180916T160000
DTEND;TZID=UTC+1:20180916T170000
DTSTAMP:20260421T083034
CREATED:20180507T095149Z
LAST-MODIFIED:20180507T095149Z
UID:44498-1537113600-1537117200@ccptm.fr
SUMMARY:Concert à Monléon-Magnoac
DESCRIPTION:Quatuor « Raisons et Amandes » à la Chapelle des Pénitents \nLe répertoire de l’ensemble s’inspire essentiellement de la diaspora juive\, chants judéo-espagnols qui ont migré sur le pourtour méditerranéen\, chants yiddish des communautés d’Europe de l’Est. \nParticipation libre 
URL:https://ccptm.fr/event/concert-a-monleon-magnoac/
CATEGORIES:Actualités
END:VEVENT
END:VCALENDAR