BEGIN:VCALENDAR
VERSION:2.0
PRODID:-//Communauté des Communes du Pays de Trie et du Magnoac - ECPv4.6.22.1//NONSGML v1.0//EN
CALSCALE:GREGORIAN
METHOD:PUBLISH
X-WR-CALNAME:Communauté des Communes du Pays de Trie et du Magnoac
X-ORIGINAL-URL:https://ccptm.fr
X-WR-CALDESC:Évènements pour Communauté des Communes du Pays de Trie et du Magnoac
BEGIN:VEVENT
DTSTART;VALUE=DATE:20180727
DTEND;VALUE=DATE:20180730
DTSTAMP:20260419T133754
CREATED:20180709T102214Z
LAST-MODIFIED:20180709T102214Z
UID:44872-1532649600-1532908799@ccptm.fr
SUMMARY:Fête à Guizerix
DESCRIPTION:LE PROGRAMME \n 
URL:https://ccptm.fr/event/fete-a-guizerix/
END:VEVENT
BEGIN:VEVENT
DTSTART;VALUE=DATE:20180728
DTEND;VALUE=DATE:20180730
DTSTAMP:20260419T133754
CREATED:20170722T091703Z
LAST-MODIFIED:20180724T130533Z
UID:41999-1532736000-1532908799@ccptm.fr
SUMMARY:Salon des Antiquaires
DESCRIPTION:41ème salon – Entrée 2€\nMarché fermier\nBourse d’échange de vélos d’occasion\nSamedi 16h Dictée à l’ancienne\nRestauration à midi – Buvette \nRenseignement : 06 42 87 00 05 ou 06 70 25 32 90 
URL:https://ccptm.fr/event/salon-des-antiquaires/
CATEGORIES:Actualités
END:VEVENT
BEGIN:VEVENT
DTSTART;TZID=UTC+1:20180728T170000
DTEND;TZID=UTC+1:20180728T170000
DTSTAMP:20260419T133754
CREATED:20180419T102616Z
LAST-MODIFIED:20180419T102616Z
UID:44366-1532797200-1532797200@ccptm.fr
SUMMARY:Concert Baroque
DESCRIPTION:Chapelle Notre Dame de Garaison à Monléon-Magnoac 
URL:https://ccptm.fr/event/concert-baroque/
CATEGORIES:Actualités
END:VEVENT
END:VCALENDAR