BEGIN:VCALENDAR
VERSION:2.0
PRODID:-//Communauté des Communes du Pays de Trie et du Magnoac - ECPv4.6.22.1//NONSGML v1.0//EN
CALSCALE:GREGORIAN
METHOD:PUBLISH
X-WR-CALNAME:Communauté des Communes du Pays de Trie et du Magnoac
X-ORIGINAL-URL:https://ccptm.fr
X-WR-CALDESC:Évènements pour Communauté des Communes du Pays de Trie et du Magnoac
BEGIN:VEVENT
DTSTART;VALUE=DATE:20180726
DTEND;VALUE=DATE:20180727
DTSTAMP:20260419T133904
CREATED:20171120T145551Z
LAST-MODIFIED:20180711T084637Z
UID:43045-1532563200-1532649599@ccptm.fr
SUMMARY:Départ du Tour de France
DESCRIPTION: \n \n 
URL:https://ccptm.fr/event/depart-du-tour-de-france/
CATEGORIES:Actualités
END:VEVENT
END:VCALENDAR