BEGIN:VCALENDAR
VERSION:2.0
PRODID:-//Communauté des Communes du Pays de Trie et du Magnoac - ECPv4.6.22.1//NONSGML v1.0//EN
CALSCALE:GREGORIAN
METHOD:PUBLISH
X-WR-CALNAME:Communauté des Communes du Pays de Trie et du Magnoac
X-ORIGINAL-URL:https://ccptm.fr
X-WR-CALDESC:Évènements pour Communauté des Communes du Pays de Trie et du Magnoac
BEGIN:VEVENT
DTSTART;VALUE=DATE:20180719
DTEND;VALUE=DATE:20180722
DTSTAMP:20260419T133720
CREATED:20180412T143711Z
LAST-MODIFIED:20180412T143857Z
UID:44349-1531958400-1532217599@ccptm.fr
SUMMARY:Festival Samba Répercussion
DESCRIPTION:à Monléon-Magnoac 
URL:https://ccptm.fr/event/festival-samba-repercussion/
CATEGORIES:Actualités
END:VEVENT
BEGIN:VEVENT
DTSTART;TZID=UTC+1:20180720T203000
DTEND;TZID=UTC+1:20180720T203000
DTSTAMP:20260419T133720
CREATED:20171120T142023Z
LAST-MODIFIED:20180420T153438Z
UID:43029-1532118600-1532118600@ccptm.fr
SUMMARY:Concours de Pétanque à Trie
DESCRIPTION:Doublette 150 Euro 
URL:https://ccptm.fr/event/concours-de-petanque-7/
CATEGORIES:Actualités
END:VEVENT
END:VCALENDAR