BEGIN:VCALENDAR
VERSION:2.0
PRODID:-//Communauté des Communes du Pays de Trie et du Magnoac - ECPv4.6.22.1//NONSGML v1.0//EN
CALSCALE:GREGORIAN
METHOD:PUBLISH
X-WR-CALNAME:Communauté des Communes du Pays de Trie et du Magnoac
X-ORIGINAL-URL:https://ccptm.fr
X-WR-CALDESC:Évènements pour Communauté des Communes du Pays de Trie et du Magnoac
BEGIN:VEVENT
DTSTART;VALUE=DATE:20180714
DTEND;VALUE=DATE:20180715
DTSTAMP:20260419T133754
CREATED:20180308T161710Z
LAST-MODIFIED:20180420T153455Z
UID:44124-1531526400-1531612799@ccptm.fr
SUMMARY:Trail Repas Antin
DESCRIPTION:
URL:https://ccptm.fr/event/trail-repas-antin/
CATEGORIES:Actualités
END:VEVENT
BEGIN:VEVENT
DTSTART;TZID=UTC+1:20180714T210000
DTEND;TZID=UTC+1:20180714T210000
DTSTAMP:20260419T133754
CREATED:20180301T151714Z
LAST-MODIFIED:20180308T104928Z
UID:43970-1531602000-1531602000@ccptm.fr
SUMMARY:Bal des Pompiers de Castelnau
DESCRIPTION:
URL:https://ccptm.fr/event/bal-des-pompiers-de-castelnau/
CATEGORIES:Actualités
END:VEVENT
END:VCALENDAR