BEGIN:VCALENDAR
VERSION:2.0
PRODID:-//Communauté des Communes du Pays de Trie et du Magnoac - ECPv4.6.22.1//NONSGML v1.0//EN
CALSCALE:GREGORIAN
METHOD:PUBLISH
X-WR-CALNAME:Communauté des Communes du Pays de Trie et du Magnoac
X-ORIGINAL-URL:https://ccptm.fr
X-WR-CALDESC:Évènements pour Communauté des Communes du Pays de Trie et du Magnoac
BEGIN:VEVENT
DTSTART;VALUE=DATE:20180701
DTEND;VALUE=DATE:20180702
DTSTAMP:20260419T133720
CREATED:20180507T101454Z
LAST-MODIFIED:20180507T101454Z
UID:44501-1530403200-1530489599@ccptm.fr
SUMMARY:Randonnée la Magnoacaise
DESCRIPTION:Randonnée équestre balisée ouverte à tous les cavaliers\, propriétaires ou non de cheval\, ainsi qu’aux meneurs et aux attelages. \n2 Circuits 15km et 25km \nDépart à partir de 9h depuis le Centre équestre \nInscription 6€/cavalier ou par meneur\, un ravitaillement est prévu sur le circuit. \nA midi possibilité de pique-nique sur place ou manger à la buvette. \nRenseignements\, inscriptions et réservations de chevaux dans la limite des places disponibles : 06 87 47 60 82 
URL:https://ccptm.fr/event/randonnee-la-magnoacaise/
CATEGORIES:Actualités
END:VEVENT
END:VCALENDAR