BEGIN:VCALENDAR
VERSION:2.0
PRODID:-//Communauté des Communes du Pays de Trie et du Magnoac - ECPv4.6.22.1//NONSGML v1.0//EN
CALSCALE:GREGORIAN
METHOD:PUBLISH
X-WR-CALNAME:Communauté des Communes du Pays de Trie et du Magnoac
X-ORIGINAL-URL:https://ccptm.fr
X-WR-CALDESC:Évènements pour Communauté des Communes du Pays de Trie et du Magnoac
BEGIN:VEVENT
DTSTART;VALUE=DATE:20180630
DTEND;VALUE=DATE:20180701
DTSTAMP:20260419T133558
CREATED:20180308T161012Z
LAST-MODIFIED:20180420T153538Z
UID:44122-1530316800-1530403199@ccptm.fr
SUMMARY:Fête à Bugard
DESCRIPTION:
URL:https://ccptm.fr/event/fete-a-bugard/
CATEGORIES:Actualités
END:VEVENT
END:VCALENDAR