BEGIN:VCALENDAR
VERSION:2.0
PRODID:-//Communauté des Communes du Pays de Trie et du Magnoac - ECPv4.6.22.1//NONSGML v1.0//EN
CALSCALE:GREGORIAN
METHOD:PUBLISH
X-WR-CALNAME:Communauté des Communes du Pays de Trie et du Magnoac
X-ORIGINAL-URL:https://ccptm.fr
X-WR-CALDESC:Évènements pour Communauté des Communes du Pays de Trie et du Magnoac
BEGIN:VEVENT
DTSTART;VALUE=DATE:20180623
DTEND;VALUE=DATE:20180624
DTSTAMP:20260419T151428
CREATED:20180619T135721Z
LAST-MODIFIED:20180619T135721Z
UID:44751-1529712000-1529798399@ccptm.fr
SUMMARY:Journée du HAND
DESCRIPTION:JOURNEE du HAND-BALL  \nau Gymnase de Trie-sur-Baïse \nMatin : Exhibition Séniors \nAprès-midi : Rencontre Parents – Enfants \n18h30 : Assemblée Générale \nSuivie d’un repas \nContact : 06 52 24 10 08 – 06 87 70 32 57 
URL:https://ccptm.fr/event/journee-du-hand/
END:VEVENT
BEGIN:VEVENT
DTSTART;TZID=UTC+1:20180623T180000
DTEND;TZID=UTC+1:20180623T180000
DTSTAMP:20260419T151428
CREATED:20180608T142535Z
LAST-MODIFIED:20180608T142535Z
UID:44734-1529776800-1529776800@ccptm.fr
SUMMARY:Voyage musical conté
DESCRIPTION:Castelnau-Magnoac (2ème étage de la Mairie) \nLes voix\, flûtes\, tambours\, didgeridoo et autres trésors sonores invitent vos sens à retrouver le chemin du Sacré. \nSophrologue Cécile Blanche  06 95 64 89 39 \nSonothérapeute Véronique Brard 06 61 94 87 57 \nParticipation 20€/adulte et 5€/enfant (-12ans) \n  
URL:https://ccptm.fr/event/voyage-musical-conte/
CATEGORIES:Actualités,Découvrir
END:VEVENT
BEGIN:VEVENT
DTSTART;TZID=UTC+1:20180623T210000
DTEND;TZID=UTC+1:20180623T210000
DTSTAMP:20260419T151428
CREATED:20180301T151430Z
LAST-MODIFIED:20180301T151430Z
UID:43966-1529787600-1529787600@ccptm.fr
SUMMARY:Bal APBM à Castelnau
DESCRIPTION:
URL:https://ccptm.fr/event/bal-apbm-a-castelnau-2/
CATEGORIES:Actualités
END:VEVENT
END:VCALENDAR