BEGIN:VCALENDAR
VERSION:2.0
PRODID:-//Communauté des Communes du Pays de Trie et du Magnoac - ECPv4.6.22.1//NONSGML v1.0//EN
CALSCALE:GREGORIAN
METHOD:PUBLISH
X-WR-CALNAME:Communauté des Communes du Pays de Trie et du Magnoac
X-ORIGINAL-URL:https://ccptm.fr
X-WR-CALDESC:Évènements pour Communauté des Communes du Pays de Trie et du Magnoac
BEGIN:VEVENT
DTSTART;TZID=UTC+1:20180620T160000
DTEND;TZID=UTC+1:20180620T180000
DTSTAMP:20260419T150736
CREATED:20180611T102935Z
LAST-MODIFIED:20180611T102935Z
UID:44738-1529510400-1529517600@ccptm.fr
SUMMARY:Vient essayer le Basket
DESCRIPTION:Portes ouvertes à la MJC de Monléon-Magnoac 
URL:https://ccptm.fr/event/vient-essayer-le-basket-2/
CATEGORIES:Actualités
END:VEVENT
BEGIN:VEVENT
DTSTART;TZID=UTC+1:20180620T193000
DTEND;TZID=UTC+1:20180620T193000
DTSTAMP:20260419T150736
CREATED:20180507T090121Z
LAST-MODIFIED:20180507T150638Z
UID:44493-1529523000-1529523000@ccptm.fr
SUMMARY:Repas/Concert à Monléon-Magnoac
DESCRIPTION:Greg « La vie autrement » à la promenade face au café \nUn musicien aux influences reggae\, rock\, flamenco\, musette ou encore manouche\, des textes bien ciselés\, des idées assumées sur notre monde qu’il voudrait autrement. \nRepas/concert 13 € \nInformations 05 62 99 40 08 
URL:https://ccptm.fr/event/concert-monleon-magnoac/
CATEGORIES:Actualités
END:VEVENT
END:VCALENDAR