BEGIN:VCALENDAR
VERSION:2.0
PRODID:-//Communauté des Communes du Pays de Trie et du Magnoac - ECPv4.6.22.1//NONSGML v1.0//EN
CALSCALE:GREGORIAN
METHOD:PUBLISH
X-WR-CALNAME:Communauté des Communes du Pays de Trie et du Magnoac
X-ORIGINAL-URL:https://ccptm.fr
X-WR-CALDESC:Évènements pour Communauté des Communes du Pays de Trie et du Magnoac
BEGIN:VEVENT
DTSTART;TZID=UTC+1:20180616T000000
DTEND;TZID=UTC+1:20180616T000000
DTSTAMP:20260419T150808
CREATED:20180308T160632Z
LAST-MODIFIED:20180420T153655Z
UID:44120-1529107200-1529107200@ccptm.fr
SUMMARY:Bal à Puydarrieux
DESCRIPTION:
URL:https://ccptm.fr/event/bal-a-puydarrieux-2/
CATEGORIES:Actualités
END:VEVENT
BEGIN:VEVENT
DTSTART;TZID=UTC+1:20180616T200000
DTEND;TZID=UTC+1:20180616T200000
DTSTAMP:20260419T150808
CREATED:20180606T103019Z
LAST-MODIFIED:20180606T103019Z
UID:44732-1529179200-1529179200@ccptm.fr
SUMMARY:Spectacle de l'école de Patins de Trie
DESCRIPTION:au Gymnase de Trie 
URL:https://ccptm.fr/event/spectacle-de-lecole-de-patins-de-trie/
CATEGORIES:Actualités
END:VEVENT
END:VCALENDAR