BEGIN:VCALENDAR
VERSION:2.0
PRODID:-//Communauté des Communes du Pays de Trie et du Magnoac - ECPv4.6.22.1//NONSGML v1.0//EN
CALSCALE:GREGORIAN
METHOD:PUBLISH
X-WR-CALNAME:Communauté des Communes du Pays de Trie et du Magnoac
X-ORIGINAL-URL:https://ccptm.fr
X-WR-CALDESC:Évènements pour Communauté des Communes du Pays de Trie et du Magnoac
BEGIN:VEVENT
DTSTART;VALUE=DATE:20180609
DTEND;VALUE=DATE:20180610
DTSTAMP:20260419T151009
CREATED:20180308T153928Z
LAST-MODIFIED:20180523T071605Z
UID:44108-1528502400-1528588799@ccptm.fr
SUMMARY:Fête du Lac Fontrailles
DESCRIPTION:8H30 : Ball trap au lac à Fontrailles\n12H00 : Apéro animé par La FAF\n13h00 : Méchoui (Salade gasconne\, Agneau à la broche/Haricots Tarbais\, salade/fromage\, dessert surprise\, vin et café) 16€\n\nInscriptions avant le 2 juin 2018 au 06-45-54-08-89.\n\nEn cas de mauvais temps repli à la salle des fêtes.\n\nLe comité des fêtes vous attend nombreux et nombreuses !! 
URL:https://ccptm.fr/event/fete-du-lac-fontrailles/
CATEGORIES:Actualités
END:VEVENT
BEGIN:VEVENT
DTSTART;TZID=UTC+1:20180609T140000
DTEND;TZID=UTC+1:20180609T223000
DTSTAMP:20260419T151009
CREATED:20180511T130344Z
LAST-MODIFIED:20180511T130752Z
UID:44525-1528552800-1528583400@ccptm.fr
SUMMARY:2ème édition Tournoi FIFA18
DESCRIPTION:Édition spéciale coupe du monde – Tournoi sur PS4 \n14h Accueil et tirage au sort \n14h30 Début des phases de poules \n18h Court-Métrage \n19h40 Début des phases à éliminations directes \n21h Grande finale \n  \nInscription : 8€/personne – Par binôme \nRestauration sur place\, maillots de l’équipe de France à gagner 
URL:https://ccptm.fr/event/2eme-edition-tournoi-fifa18/
CATEGORIES:Actualités
END:VEVENT
BEGIN:VEVENT
DTSTART;TZID=UTC+1:20180609T203000
DTEND;TZID=UTC+1:20180609T203000
DTSTAMP:20260419T151009
CREATED:20180605T081214Z
LAST-MODIFIED:20180605T081214Z
UID:44719-1528576200-1528576200@ccptm.fr
SUMMARY:Spectacle de Flamenco
DESCRIPTION:avec l’école d’Arte Andaluz au Monastère des Carmes 
URL:https://ccptm.fr/event/spectacle-de-flamenco/
CATEGORIES:Actualités
END:VEVENT
END:VCALENDAR