BEGIN:VCALENDAR
VERSION:2.0
PRODID:-//Communauté des Communes du Pays de Trie et du Magnoac - ECPv4.6.22.1//NONSGML v1.0//EN
CALSCALE:GREGORIAN
METHOD:PUBLISH
X-WR-CALNAME:Communauté des Communes du Pays de Trie et du Magnoac
X-ORIGINAL-URL:https://ccptm.fr
X-WR-CALDESC:Évènements pour Communauté des Communes du Pays de Trie et du Magnoac
BEGIN:VEVENT
DTSTART;VALUE=DATE:20180531
DTEND;VALUE=DATE:20180607
DTSTAMP:20260419T150927
CREATED:20180323T094601Z
LAST-MODIFIED:20180420T153804Z
UID:44230-1527724800-1528329599@ccptm.fr
SUMMARY:Sensibilisation à la pratique du vélo
DESCRIPTION:La mairie de Trie mettra  gratuitement à disposition du grand public 4 vélos à assistance électrique pour sensibiliser le plus grand nombre à la pratique du vélo. 
URL:https://ccptm.fr/event/sensibilisation-a-la-pratique-du-velo/
CATEGORIES:Actualités,Découvrir
END:VEVENT
BEGIN:VEVENT
DTSTART;VALUE=DATE:20180602
DTEND;VALUE=DATE:20180604
DTSTAMP:20260419T150927
CREATED:20180308T135606Z
LAST-MODIFIED:20180420T153747Z
UID:44104-1527897600-1528070399@ccptm.fr
SUMMARY:Bal à Luby-Betmont
DESCRIPTION:
URL:https://ccptm.fr/event/bal-a-luby-betmont/
CATEGORIES:Actualités
END:VEVENT
BEGIN:VEVENT
DTSTART;TZID=UTC+1:20180602T100000
DTEND;TZID=UTC+1:20180603T190000
DTSTAMP:20260419T150927
CREATED:20180517T133001Z
LAST-MODIFIED:20180517T133841Z
UID:44536-1527933600-1528052400@ccptm.fr
SUMMARY:Rendez-vous aux jardins "Hillen"
DESCRIPTION: \nexposants rdv 2018 jardin hillen \nexposants rdv 2018 jardin hillen 2 
URL:https://ccptm.fr/event/rendez-vous-aux-jardins-hillen/
CATEGORIES:Actualités,Découvrir,Expositions
END:VEVENT
BEGIN:VEVENT
DTSTART;TZID=UTC+1:20180602T100000
DTEND;TZID=UTC+1:20180603T170000
DTSTAMP:20260419T150927
CREATED:20180517T133806Z
LAST-MODIFIED:20180517T133806Z
UID:44541-1527933600-1528045200@ccptm.fr
SUMMARY:Portes ouvertes Jardin Antin
DESCRIPTION:\n  
URL:https://ccptm.fr/event/portes-ouvertes-jardin-antin/
CATEGORIES:Actualités,Découvrir,Expositions
END:VEVENT
BEGIN:VEVENT
DTSTART;TZID=UTC+1:20180603T170000
DTEND;TZID=UTC+1:20180603T170000
DTSTAMP:20260419T150927
CREATED:20180523T074500Z
LAST-MODIFIED:20180523T074702Z
UID:44593-1528045200-1528045200@ccptm.fr
SUMMARY:Concert au Monastère des Carmes
DESCRIPTION:« les Conférences Vocales  » Direction Laetitia Toulouse \nAffiche concert :  Concert Monastère Trie 
URL:https://ccptm.fr/event/concert-au-monastere-des-carmes/
CATEGORIES:Actualités
END:VEVENT
END:VCALENDAR