BEGIN:VCALENDAR
VERSION:2.0
PRODID:-//Communauté des Communes du Pays de Trie et du Magnoac - ECPv4.6.22.1//NONSGML v1.0//EN
CALSCALE:GREGORIAN
METHOD:PUBLISH
X-WR-CALNAME:Communauté des Communes du Pays de Trie et du Magnoac
X-ORIGINAL-URL:https://ccptm.fr
X-WR-CALDESC:Évènements pour Communauté des Communes du Pays de Trie et du Magnoac
BEGIN:VEVENT
DTSTART;TZID=UTC+1:20180529T193000
DTEND;TZID=UTC+1:20180529T193000
DTSTAMP:20260419T150737
CREATED:20180529T132030Z
LAST-MODIFIED:20180529T132030Z
UID:44698-1527622200-1527622200@ccptm.fr
SUMMARY:Campuzan en musique
DESCRIPTION:à partir de 19h30 Bandas avec la FAF et les Rosbiffles \nRepas offert de 20h à 23h \nBal disco avec Gnack-Gnack 
URL:https://ccptm.fr/event/campuzan-en-musique/
CATEGORIES:Actualités
END:VEVENT
END:VCALENDAR