BEGIN:VCALENDAR
VERSION:2.0
PRODID:-//Communauté des Communes du Pays de Trie et du Magnoac - ECPv4.6.22.1//NONSGML v1.0//EN
CALSCALE:GREGORIAN
METHOD:PUBLISH
X-WR-CALNAME:Communauté des Communes du Pays de Trie et du Magnoac
X-ORIGINAL-URL:https://ccptm.fr
X-WR-CALDESC:Évènements pour Communauté des Communes du Pays de Trie et du Magnoac
BEGIN:VEVENT
DTSTART;VALUE=DATE:20180527
DTEND;VALUE=DATE:20180528
DTSTAMP:20260419T163734
CREATED:20180315T093715Z
LAST-MODIFIED:20180525T143308Z
UID:44215-1527379200-1527465599@ccptm.fr
SUMMARY:Course de Côte Luby-Osmets
DESCRIPTION:
URL:https://ccptm.fr/event/course-de-cote-luby-osmets/
CATEGORIES:Actualités
END:VEVENT
BEGIN:VEVENT
DTSTART;TZID=UTC+1:20180527T090000
DTEND;TZID=UTC+1:20180527T140000
DTSTAMP:20260419T163734
CREATED:20180301T145620Z
LAST-MODIFIED:20180420T153837Z
UID:43956-1527411600-1527429600@ccptm.fr
SUMMARY:Bourse pour l'Enfant et Floralies à Trie-sur-Baïse
DESCRIPTION:Bourse aux jouets\, vêtements enfants\, matériel puériculture « Moderne\, propre et en bon état » \n3€ le mètre linéaire – Réservations 06 31 32 84 62 Organisation par le Relais Assistantes Maternelles de Trie \n  \n4ème Floralies organisée par l’Association des Commerçants et Artisans Triais 
URL:https://ccptm.fr/event/floralies-a-castelnau/
CATEGORIES:Actualités
END:VEVENT
BEGIN:VEVENT
DTSTART;TZID=UTC+1:20180527T093000
DTEND;TZID=UTC+1:20180527T120000
DTSTAMP:20260419T163734
CREATED:20180412T121357Z
LAST-MODIFIED:20180420T153821Z
UID:44335-1527413400-1527422400@ccptm.fr
SUMMARY:Masterclass Zumba et Djembel
DESCRIPTION:Participation 5 € au foyer rural de Mazerolles \n  
URL:https://ccptm.fr/event/masterclass-zumba-et-djembel/
CATEGORIES:Actualités
END:VEVENT
END:VCALENDAR