BEGIN:VCALENDAR
VERSION:2.0
PRODID:-//Communauté des Communes du Pays de Trie et du Magnoac - ECPv4.6.22.1//NONSGML v1.0//EN
CALSCALE:GREGORIAN
METHOD:PUBLISH
X-WR-CALNAME:Communauté des Communes du Pays de Trie et du Magnoac
X-ORIGINAL-URL:https://ccptm.fr
X-WR-CALDESC:Évènements pour Communauté des Communes du Pays de Trie et du Magnoac
BEGIN:VEVENT
DTSTART;TZID=UTC+1:20180526T090000
DTEND;TZID=UTC+1:20180526T170000
DTSTAMP:20260419T163703
CREATED:20180507T135653Z
LAST-MODIFIED:20180517T132442Z
UID:44516-1527325200-1527354000@ccptm.fr
SUMMARY:Concours de Pétanque Garaison
DESCRIPTION:9h Inscriptions  \n10h30 Début concours \n11h30 Messe en la chapelle \n12h Apéritif \n13h à 15h Repas (réservation 05 62 98 57 02) \n14h Reprise pétanque \n14h30 Conférence « Le légendaire dans les Pyrénées » Anne Lasserre-Vergne \n16h Concert Chorale du Lavedan Chapelle Notre-Dame de Garaison \n  \nOrganisation Amicale des Anciens\, Réservations et informations 05 62 98 57 02 avant le 19 mai 
URL:https://ccptm.fr/event/concours-de-petanque-garaison/
CATEGORIES:Actualités
END:VEVENT
BEGIN:VEVENT
DTSTART;TZID=UTC+1:20180526T200000
DTEND;TZID=UTC+1:20180526T200000
DTSTAMP:20260419T163703
CREATED:20180420T135012Z
LAST-MODIFIED:20180420T141708Z
UID:44393-1527364800-1527364800@ccptm.fr
SUMMARY:Concert en plein air O'Positif
DESCRIPTION:au Bar le Petit César à Castelnau-Magnoac \nRepas sur réservation au 06 47 27 70 85 
URL:https://ccptm.fr/event/concert-en-plein-air/
CATEGORIES:Actualités
END:VEVENT
END:VCALENDAR