BEGIN:VCALENDAR
VERSION:2.0
PRODID:-//Communauté des Communes du Pays de Trie et du Magnoac - ECPv4.6.22.1//NONSGML v1.0//EN
CALSCALE:GREGORIAN
METHOD:PUBLISH
X-WR-CALNAME:Communauté des Communes du Pays de Trie et du Magnoac
X-ORIGINAL-URL:https://ccptm.fr
X-WR-CALDESC:Évènements pour Communauté des Communes du Pays de Trie et du Magnoac
BEGIN:VEVENT
DTSTART;VALUE=DATE:20180511
DTEND;VALUE=DATE:20180514
DTSTAMP:20260419T163547
CREATED:20180412T142340Z
LAST-MODIFIED:20180412T142340Z
UID:44343-1525996800-1526255999@ccptm.fr
SUMMARY:Fête à Monléon-Magnoac
DESCRIPTION:
URL:https://ccptm.fr/event/fete-a-monleon-magnoac/
CATEGORIES:Actualités
END:VEVENT
BEGIN:VEVENT
DTSTART;TZID=UTC+1:20180512T000000
DTEND;TZID=UTC+1:20180512T000000
DTSTAMP:20260419T163547
CREATED:20180412T142448Z
LAST-MODIFIED:20180412T142448Z
UID:44345-1526083200-1526083200@ccptm.fr
SUMMARY:Bal AFN à Castelnau-Magnoac
DESCRIPTION:
URL:https://ccptm.fr/event/bal-afn-a-castelnau-magnoac/
CATEGORIES:Actualités
END:VEVENT
BEGIN:VEVENT
DTSTART;TZID=UTC+1:20180512T210000
DTEND;TZID=UTC+1:20180512T210000
DTSTAMP:20260419T163547
CREATED:20180419T072430Z
LAST-MODIFIED:20180419T072430Z
UID:44364-1526158800-1526158800@ccptm.fr
SUMMARY:Récital d'Orgue
DESCRIPTION:Philippe Lefèvre organiste titulaire de ND de Paris \nCollégiale de Castelnau-Magnoac \nConcert organisé par les Amis de l’orgue de la Collégiale \nLibre participation 
URL:https://ccptm.fr/event/recital-dorgue/
CATEGORIES:Actualités,Découvrir
END:VEVENT
END:VCALENDAR