BEGIN:VCALENDAR
VERSION:2.0
PRODID:-//Communauté des Communes du Pays de Trie et du Magnoac - ECPv4.6.22.1//NONSGML v1.0//EN
CALSCALE:GREGORIAN
METHOD:PUBLISH
X-WR-CALNAME:Communauté des Communes du Pays de Trie et du Magnoac
X-ORIGINAL-URL:https://ccptm.fr
X-WR-CALDESC:Évènements pour Communauté des Communes du Pays de Trie et du Magnoac
BEGIN:VEVENT
DTSTART;TZID=UTC+1:20180301T080000
DTEND;TZID=UTC+1:20180301T170000
DTSTAMP:20260419T195124
CREATED:20180301T150530Z
LAST-MODIFIED:20180301T150530Z
UID:43960-1519891200-1519923600@ccptm.fr
SUMMARY:Bal AFN à Castelnau
DESCRIPTION:
URL:https://ccptm.fr/event/bal-afn-a-castelnau-2/
CATEGORIES:Actualités
END:VEVENT
BEGIN:VEVENT
DTSTART;TZID=UTC+1:20180301T204500
DTEND;TZID=UTC+1:20180301T204500
DTSTAMP:20260419T195124
CREATED:20180301T141934Z
LAST-MODIFIED:20180301T141934Z
UID:43941-1519937100-1519937100@ccptm.fr
SUMMARY:La Musique des étoiles
DESCRIPTION: 
URL:https://ccptm.fr/event/la-musique-des-etoiles/
CATEGORIES:Actualités
END:VEVENT
END:VCALENDAR