BEGIN:VCALENDAR
VERSION:2.0
PRODID:-//Communauté des Communes du Pays de Trie et du Magnoac - ECPv4.6.22.1//NONSGML v1.0//EN
CALSCALE:GREGORIAN
METHOD:PUBLISH
X-WR-CALNAME:Communauté des Communes du Pays de Trie et du Magnoac
X-ORIGINAL-URL:https://ccptm.fr
X-WR-CALDESC:Évènements pour Communauté des Communes du Pays de Trie et du Magnoac
BEGIN:VEVENT
DTSTART;TZID=UTC+1:20170807T150000
DTEND;TZID=UTC+1:20170807T150000
DTSTAMP:20260420T065131
CREATED:20170722T091423Z
LAST-MODIFIED:20170722T091423Z
UID:41995-1502118000-1502118000@ccptm.fr
SUMMARY:Course cycliste
DESCRIPTION:course cycliste dans le cadre des Fêtes de TRIE\népreuve ouverte uniquement aux licenciés FFC\, FSGT.
URL:https://ccptm.fr/event/course-cycliste/
CATEGORIES:Découvrir
END:VEVENT
END:VCALENDAR