BEGIN:VCALENDAR
VERSION:2.0
PRODID:-//Communauté des Communes du Pays de Trie et du Magnoac - ECPv4.6.22.1//NONSGML v1.0//EN
CALSCALE:GREGORIAN
METHOD:PUBLISH
X-WR-CALNAME:Communauté des Communes du Pays de Trie et du Magnoac
X-ORIGINAL-URL:https://ccptm.fr
X-WR-CALDESC:Évènements pour Communauté des Communes du Pays de Trie et du Magnoac
BEGIN:VEVENT
DTSTART;VALUE=DATE:20180803
DTEND;VALUE=DATE:20180806
DTSTAMP:20260424T234340
CREATED:20180301T152458Z
LAST-MODIFIED:20180802T082958Z
UID:43983-1533254400-1533513599@ccptm.fr
SUMMARY:Fête de Castelnau-Magnoac
DESCRIPTION:Vendredi 3 Août \n14h Concours de pétanque organisé par le Bar de Jo inscriptions au 05 62 39 67 72 \n19h30 Apéritif du village \n20h30 Repas : Assiette de crudités\, moules à la crème ou saucisse grillée\, frite maison\, brownie et crème anglaise \nRéservation jusqu’au 1er août  au  06 87 08 57 80 \n12€/adulte et 7€/enfant – 10 ans \n23h Soirée animée par le Podium Caïman \n  \nSamedi 4 Août \n14h Olympiades du Magnoac\, buvette\, musique et bonne humeur \n16h Spectacle musical pour les enfants animé par Jamy Benoit \n20h30 Repas : Couscous géant poulet\, glace\, café \nRéservation jusqu’au 1er août au 06 15 92 06 47 \n13€/adulte et 8€/enfant – 10 ans \n22h Mini Bal Disco pour les enfants Bonbons à gogo \n23h30 Soirée chasse et pêche avec le podium Las Vegas \n  \nDimanche 5 Août \n9h Départ de la sérénade \n14h Concours de pétanque en triplette organisé par la Pétanque Magnoacaise et le Bar le Petit César \n21h Bal Musette gratuit avec l’orchestre Tonic Musette \n23h Grand feu d’Artifice sur le lac \n23h30 Soirée Bodéga sous chapiteau avec Les Freros de la Pena \n  
URL:https://ccptm.fr/event/fete-de-castelnau-magnoac/
CATEGORIES:Actualités
END:VEVENT
END:VCALENDAR