BEGIN:VCALENDAR
VERSION:2.0
PRODID:-//Communauté des Communes du Pays de Trie et du Magnoac - ECPv4.6.22.1//NONSGML v1.0//EN
CALSCALE:GREGORIAN
METHOD:PUBLISH
X-WR-CALNAME:Communauté des Communes du Pays de Trie et du Magnoac
X-ORIGINAL-URL:https://ccptm.fr
X-WR-CALDESC:Évènements pour Communauté des Communes du Pays de Trie et du Magnoac
BEGIN:VEVENT
DTSTART;VALUE=DATE:20180527
DTEND;VALUE=DATE:20180528
DTSTAMP:20260419T134940
CREATED:20180315T093715Z
LAST-MODIFIED:20180525T143308Z
UID:44215-1527379200-1527465599@ccptm.fr
SUMMARY:Course de Côte Luby-Osmets
DESCRIPTION:
URL:https://ccptm.fr/event/course-de-cote-luby-osmets/
CATEGORIES:Actualités
END:VEVENT
END:VCALENDAR