BEGIN:VCALENDAR
VERSION:2.0
PRODID:-//Communauté des Communes du Pays de Trie et du Magnoac - ECPv4.6.22.1//NONSGML v1.0//EN
CALSCALE:GREGORIAN
METHOD:PUBLISH
X-WR-CALNAME:Communauté des Communes du Pays de Trie et du Magnoac
X-ORIGINAL-URL:https://ccptm.fr
X-WR-CALDESC:Évènements pour Communauté des Communes du Pays de Trie et du Magnoac
BEGIN:VEVENT
DTSTART;TZID=UTC+1:20180825T210000
DTEND;TZID=UTC+1:20180825T210000
DTSTAMP:20260420T013126
CREATED:20180301T152931Z
LAST-MODIFIED:20180301T152931Z
UID:43985-1535230800-1535230800@ccptm.fr
SUMMARY:Bal AFN à Castelnau
DESCRIPTION:
URL:https://ccptm.fr/event/bal-afn-a-castelnau-4/
CATEGORIES:Actualités
END:VEVENT
END:VCALENDAR